BEGIN:VCALENDAR
VERSION:2.0
PRODID:-//Brain Health Virginia - ECPv6.15.20//NONSGML v1.0//EN
CALSCALE:GREGORIAN
METHOD:PUBLISH
X-WR-CALNAME:Brain Health Virginia
X-ORIGINAL-URL:https://www.vdh.virginia.gov/brain-health
X-WR-CALDESC:Events for Brain Health Virginia
REFRESH-INTERVAL;VALUE=DURATION:PT1H
X-Robots-Tag:noindex
X-PUBLISHED-TTL:PT1H
BEGIN:VTIMEZONE
TZID:America/New_York
BEGIN:DAYLIGHT
TZOFFSETFROM:-0500
TZOFFSETTO:-0400
TZNAME:EDT
DTSTART:20250309T070000
END:DAYLIGHT
BEGIN:STANDARD
TZOFFSETFROM:-0400
TZOFFSETTO:-0500
TZNAME:EST
DTSTART:20251102T060000
END:STANDARD
BEGIN:DAYLIGHT
TZOFFSETFROM:-0500
TZOFFSETTO:-0400
TZNAME:EDT
DTSTART:20260308T070000
END:DAYLIGHT
BEGIN:STANDARD
TZOFFSETFROM:-0400
TZOFFSETTO:-0500
TZNAME:EST
DTSTART:20261101T060000
END:STANDARD
BEGIN:DAYLIGHT
TZOFFSETFROM:-0500
TZOFFSETTO:-0400
TZNAME:EDT
DTSTART:20270314T070000
END:DAYLIGHT
BEGIN:STANDARD
TZOFFSETFROM:-0400
TZOFFSETTO:-0500
TZNAME:EST
DTSTART:20271107T060000
END:STANDARD
END:VTIMEZONE
BEGIN:VEVENT
DTSTART;TZID=America/New_York:20260502T100000
DTEND;TZID=America/New_York:20260503T120000
DTSTAMP:20260420T132452
CREATED:20260420T160202Z
LAST-MODIFIED:20260420T160202Z
UID:1400-1777716000-1777809600@www.vdh.virginia.gov
SUMMARY:Mission: Healthy Relationships
DESCRIPTION:A relationship enrichment workshop for committed couples who may be experiencing relational stressors to include Military Operational Stress perhaps from deployments\, the effects of Post-Traumatic Stress Disorder (PTSD) and/or Traumatic Brain Injury (TBI). \nThere is no cost to participate in this workshop. Hotel room and meals are provided. \nNOTE: The workshop will have space available for 20 couples. \nPresented by Virginia Veteran and Family Support\nVirginia Department of Veterans Services \nLodging at Delta Marriott \n555 E Canal St\, Richmond\, VA 23219 \nTo register\, email Erika Sisson at erika.sisson@dvs.virginia.gov or call (804) 389-3623.
URL:https://www.vdh.virginia.gov/brain-health/event/mission-healthy-relationships/
LOCATION:Virginia War Memorial\, 621 S Belvidere Street\, Richmond\, VA\, 23220\, United States
ORGANIZER;CN="Virginia Veteran and Family Support%2C Virginia Department of Veterans Services":MAILTO:erika.sisson@dvs.virginia.gov
END:VEVENT
END:VCALENDAR